BEGIN:VCALENDAR
VERSION:2.0
PRODID:-//一般社団法人日本国際結婚協会 - ECPv6.5.0//NONSGML v1.0//EN
CALSCALE:GREGORIAN
METHOD:PUBLISH
X-WR-CALNAME:一般社団法人日本国際結婚協会
X-ORIGINAL-URL:https://service1.demo-sample.site
X-WR-CALDESC:一般社団法人日本国際結婚協会 のイベント
REFRESH-INTERVAL;VALUE=DURATION:PT1H
X-Robots-Tag:noindex
X-PUBLISHED-TTL:PT1H
BEGIN:VTIMEZONE
TZID:Asia/Tokyo
BEGIN:STANDARD
TZOFFSETFROM:+0900
TZOFFSETTO:+0900
TZNAME:JST
DTSTART:20210101T000000
END:STANDARD
END:VTIMEZONE
BEGIN:VEVENT
DTSTART;TZID=Asia/Tokyo:20210227T140000
DTEND;TZID=Asia/Tokyo:20210227T160000
DTSTAMP:20260426T075430
CREATED:20210214T101933Z
LAST-MODIFIED:20210214T102339Z
UID:794-1614434400-1614441600@service1.demo-sample.site
SUMMARY:国際婚約カウンセラー体験会
DESCRIPTION:国際婚約カウンセラーオンライン体験会\n\n\n\n\n\n\n\n\n\n2021年2月27日土曜日 時間：14:00～16:00 \n\n\n\n【開催趣旨】 \n\n\n\n日本における外国人の在日人数は驚くほど増えており\,そんな中国際結婚も増加の傾向にあり\,いまや国際結婚は特別ではないという時代に突入しています。 \n\n\n\n国際結婚といえば\,「どうしても結婚できない人が外国人と結婚する」というイメージが強く残っていますが実際はそんなことは決してありません。 \n\n\n\n地方に行けば行くほど「結婚できないから外国人と結婚する」というイメージが強いのではないでしょうか？また\,今までは国際結婚のイメージも決してよいとは言えませんでした。 \n\n\n\n日本における外国人の人数も増えている状況の中で外国人が経済の発展に関わっていくことは\,今後は否めません。 \n\n\n\nそして\,最初から外国人と結婚したいという希望を持っている日本人も多くなっている中で\,国際結婚はいまや特別ではありません。 \n\n\n\nそういった\,外国人との結婚に対する昔からのイメージを払しょくするため\,そして\,安心で安全な国際結婚を進めていくために\,国際婚約カウンセラーの力がいまこそ必要と考えております。 \n\n\n\n国際結婚の現状は\,ステータスとして外国人と結婚するという日本人の意識に変わりつつあり\,外国人との結婚は結婚をする上で自然な選択肢の一つとして考える時代になってきています。それが\,今後の日本の成婚率や未婚率の上昇にもつながっていきます。 \n\n\n\n一般社団法人日本国際結婚協会では国際結婚のイメージ向上は不可欠と考えており\,日本で長く幸せな結婚生活を外国人の方におくってほしいという現実を鑑みて\,国際婚約カウンセラーの育成は急務と考えております。 \n\n\n\n—————————————————–～外国人とのご縁つなぎをお仕事に～　　日時：2月27日（土）14時～16時00分場所：[オンライン] ZOOM(PC/スマホ)準備物：筆記用具、ノート、飲み物参加費：3\,000円振込先：埼玉縣信用金庫　北本支店　普通　口座番号：3227868口座名：一般社団法人日本国際結婚協会 \n\n\n\n事前にお振込み頂いた方にZOOMのURLをお送りしております。振り込み先は、お申込み後にメールにてご連絡します。予約制ですので、お振込みをもって参加確定とさせていただきます。体験会の内容：1. 国際婚約カウンセラーの役割2. 資格取得講座について3. 集客方法について特典：当日参加の方には特典があります。 \n\n\n\n参加の方のお申し込みはこちらから※注意　こちらの申込みフォームからお申込み頂きませんと参加確定になりません。 \n\n\n\n \n\n\n\nイベントに申し込む\n\n\n\n※コロナウイル感染防止の自粛を鑑みまして、オンライン（ZOOM）での開催になりますことをご了承をお願いいたします。 \n\n\n\n….…..…..…..…..…..…..…..…..一般社団法人日本国際結婚協会(JAIM)
URL:https://service1.demo-sample.site/event/210227/
CATEGORIES:カウンセラーイベント
ATTACH;FMTTYPE=image/jpeg:https://service1.demo-sample.site/wp-content/uploads/2021/02/4191391_s.jpg
END:VEVENT
END:VCALENDAR