BEGIN:VCALENDAR
VERSION:2.0
PRODID:-//一般社団法人日本国際結婚協会 - ECPv6.5.0//NONSGML v1.0//EN
CALSCALE:GREGORIAN
METHOD:PUBLISH
X-WR-CALNAME:一般社団法人日本国際結婚協会
X-ORIGINAL-URL:https://service1.demo-sample.site
X-WR-CALDESC:一般社団法人日本国際結婚協会 のイベント
REFRESH-INTERVAL;VALUE=DURATION:PT1H
X-Robots-Tag:noindex
X-PUBLISHED-TTL:PT1H
BEGIN:VTIMEZONE
TZID:Asia/Tokyo
BEGIN:STANDARD
TZOFFSETFROM:+0900
TZOFFSETTO:+0900
TZNAME:JST
DTSTART:20210101T000000
END:STANDARD
END:VTIMEZONE
BEGIN:VEVENT
DTSTART;TZID=Asia/Tokyo:20210207T140000
DTEND;TZID=Asia/Tokyo:20210207T170000
DTSTAMP:20260426T075400
CREATED:20210206T150010Z
LAST-MODIFIED:20210206T150010Z
UID:497-1612706400-1612717200@service1.demo-sample.site
SUMMARY:「マッチョ婚～さわっていいとも筋肉祭～」
DESCRIPTION:『マッチョ婚～さわっていいとも筋肉祭～』－オンラインイベント－日時：2月7日土曜日14：00～17：00場所：ZOOM(PC/スマホ)参加費：男性3\,000円　　女性2\,000円\n\n\n\n昨今の感染症の状況を鑑みまして、オンラインイベントにての開催といたします。普段日常では出会えない方と出会ってみませんか？という趣旨でオンラインイベントを開催いたします。 \n\n\n\n\n\n\n\n☆☆☆*…*…*…*…*…*…*…*…*…*…*…*…*…*☆☆☆\n\n\n\nこんな思いの人は参加をしてみましょう。・マッチョと出会いたい方恋愛を前提に出会いを作りたい方・仕事が忙しくて出会いがない方・オンラインイベントを経験してみたい方オンラインイベントにご興味をもたれた皆様☆普段出会えない人と楽しく会話しませんか？☆仕事以外での出会いを作ってみませんか？\n\n\n\n独身であればだれでも参加できます。 \n\n\n\n。:*:★。:*:★━━━━━━━━━━━━━★:*:。★:*:。【このオンラインイベントにご参加頂くと】☆初めての方とたのしく会話できる！！☆自宅からオンラインイベントを体験できる☆オンラインイベントに抵抗がある方も思ったより楽しい！☆夢を素直に参加者と語れる！☆国籍に関わらず出会える！などなど、出会いのチャンスも！！\n\n\n\n。:*:★。:*:★━━━━━━━━━━━━━★:*:。★:*:。【どんなことをするの？】参加者の方と楽しいオンラインイベント。自己紹介は楽しみながらマッチングもばっちりとやります。参加者の人と楽しく会話できるフリートークでは普段聞けない異性の方への質問タイム。興味のある方にどんどん質問してみましょう。どんな質問が出るかとても楽しみで盛り上がります。【どういう人が参加するの？】・異性と出会いたい独身の方・ある程度真剣な出会いを考えている方・オンラインイベントを楽しみたい方また、一人で参加はちょっと！と思っている方も気軽にご参加頂けるように企画しています。【何人ぐらい集まるの？】参加人数：オンライン開催の為　12名前後人数調整がありますので早めにお申し込みなさってください。参加者は独身の男女限定です。（年齢バランスなどの調整はありません）オンラインイベントで気に入った方がいらしたら、お相手の気持ちの確認をしてから直接のご紹介をいたします。【ご注意】楽しいオンラインイベントにつきイベントへ参加した方への以下の行為は原則禁止させていただきます。禁止行為が発覚した場合は、次回からの参加はお断りさせていただきます。・宗教・政治活動・マルチレベルマーケティングへの勧誘・他説明会・他セミナーへの勧誘行為・自身のビジネス目的の参加※ビジネス目的の参加は固くお断りいたします。【誰が主催・共催してるの？】８００人以上の素敵なご縁を結んできた『左部良子』≪プロフィール≫24年間の大手結婚情報サービスでの経験と実績を生かした恋愛カウンセリングから幸せな結婚へと導く専門家。「結婚は幸せになるための手段であってゴールではない」結婚の先のＥ－家庭までをプロデュースすることにより成婚カップル多数。恋愛コンサルタント認定セルフカウンセリングコミュニケーショントレーナー資格認定☆☆主催・一般社団法人日本国際結婚協会☆☆共催・株式会社ヴェル代表取締役　　　　岡本慶太鈴木優☆☆会場・ZOOMオンライン\n\n\n\n。:*:★。:*:★━━━━━━━━━━━━━★:*:。★:*:。『マッチョ婚～さわっていいとも筋肉祭～』－オンラインイベント－日時：2月7日土曜日14：00～17：00場所：ZOOM(PC/スマホ)参加費：男性3\,000円　　女性2\,000円振り込み先は、参加者の方にお知らせ致します。予約制ですので、お振込みをもって参加確定とさせていただきます。♡　　♡　　♡※注意　こちらの申し込みフォームからお申込みいただきませんと参加確定になりません。↓　　↓　　↓\n\n\n\n \n\n\n\nこのイベントの企画はあなたが楽しめるように企画をしています。参加する前にご相談も承っています。まずはお気軽にご相談ください！《キャンセルポリシー》人数確認のために、キャンセルのご連絡は2日前までに必ずお願いいたします。前日及び当日のキャンセルは、参加費を全額お支払い頂くことになりますのでご注意をお願いいたします。連絡先：090-7206-6538\n\n\n\n….*…..*…..*…..*…..*…..*…..*…..*…..*…. *….一般社団法人日本国際結婚協会(JAIM)
URL:https://service1.demo-sample.site/event/210207/
LOCATION:オンラインZOOM\, 日本
CATEGORIES:婚活イベント
ATTACH;FMTTYPE=image/jpeg:https://service1.demo-sample.site/wp-content/uploads/2021/02/131646773_401186187794850_5378352337685577501_n.jpg
END:VEVENT
END:VCALENDAR