BEGIN:VCALENDAR
VERSION:2.0
PRODID:-//一般社団法人日本国際結婚協会 - ECPv6.5.0//NONSGML v1.0//EN
CALSCALE:GREGORIAN
METHOD:PUBLISH
X-WR-CALNAME:一般社団法人日本国際結婚協会
X-ORIGINAL-URL:https://service1.demo-sample.site
X-WR-CALDESC:一般社団法人日本国際結婚協会 のイベント
REFRESH-INTERVAL;VALUE=DURATION:PT1H
X-Robots-Tag:noindex
X-PUBLISHED-TTL:PT1H
BEGIN:VTIMEZONE
TZID:Asia/Tokyo
BEGIN:STANDARD
TZOFFSETFROM:+0900
TZOFFSETTO:+0900
TZNAME:JST
DTSTART:20200101T000000
END:STANDARD
END:VTIMEZONE
BEGIN:VEVENT
DTSTART;TZID=Asia/Tokyo:20201205T130000
DTEND;TZID=Asia/Tokyo:20201205T150000
DTSTAMP:20260426T104054
CREATED:20201204T150038Z
LAST-MODIFIED:20201204T150038Z
UID:503-1607173200-1607180400@service1.demo-sample.site
SUMMARY:ワールド婚～Borderless encounter～クリスマス編
DESCRIPTION:　ワールド婚～Borderless encounter～クリスマス編日時：12月5日土曜日13：00～15：00場所：ZOOM(PC/スマホ) \n\n\n\nイベント詳細はこちらから \n\n\n\n\nワールド婚～Borderless encounter～クリスマス編ワールド婚～Borderless encounter～クリスマス編2020年12月5日（土）13：00～15：00―クリスマス編オンラインイベント―昨今の感染症の状況を鑑みまして、オンラインイベントにての開催といたします。...service1.demo-sample.site
URL:https://service1.demo-sample.site/event/201205i/
LOCATION:オンラインZOOM\, 日本
CATEGORIES:婚活イベント
ATTACH;FMTTYPE=image/jpeg:https://service1.demo-sample.site/wp-content/uploads/2021/02/Christmas.jpg
END:VEVENT
END:VCALENDAR